BEGIN:VCALENDAR
VERSION:2.0
PRODID:-//Atlanta&#039;s John Marshall Law School - ECPv5.0.2.1//NONSGML v1.0//EN
CALSCALE:GREGORIAN
METHOD:PUBLISH
X-WR-CALNAME:Atlanta&#039;s John Marshall Law School
X-ORIGINAL-URL:https://www.johnmarshall.edu
X-WR-CALDESC:Events for Atlanta&#039;s John Marshall Law School
BEGIN:VTIMEZONE
TZID:America/New_York
BEGIN:DAYLIGHT
TZOFFSETFROM:-0500
TZOFFSETTO:-0400
TZNAME:EDT
DTSTART:20200308T070000
END:DAYLIGHT
BEGIN:STANDARD
TZOFFSETFROM:-0400
TZOFFSETTO:-0500
TZNAME:EST
DTSTART:20201101T060000
END:STANDARD
END:VTIMEZONE
BEGIN:VEVENT
DTSTART;TZID=America/New_York:20200611T160000
DTEND;TZID=America/New_York:20200611T180000
DTSTAMP:20260424T112732
CREATED:20200608T225307Z
LAST-MODIFIED:20200609T180701Z
UID:36542-1591891200-1591898400@www.johnmarshall.edu
SUMMARY:Town Hall Meeting - Activism During Social Unrest: A conversation with the Atlanta’s John Marshall Community
DESCRIPTION: \nPlease register for the event below. You will receive an event confirmation email with a Zoom meeting link prior to Thursday’s event.\nThe deadline to RSVP is by Thursday\, June 11 at 12:00 p.m. (noon). \n\n                \n                        \n                            EDI Committee Event Registration\n                        \n                        Name\n                            \n                            \n                                                    \n                                                    First\n                                                \n                            \n                            \n                                                    \n                                                    Last\n                                                \n                            \n                        Email\n                            \n                        Event Selection*Conversations with Scholars and Experts "In the Know"\, Professor Anthony Baker (Thursday\, August 27\, 2020)Conversations with Scholars and Experts "In the Know"\, Professor Natsu Taylor Saito (Thursday\, October 1\, 2020)\n          \n            \n            \n            \n            \n            \n            \n            \n            \n            \n        \n                        \n                        \n
URL:https://www.johnmarshall.edu/event/town-hall-meeting-activism-during-social-unrest-a-conversation-with-the-atlantas-john-marshall-community/
END:VEVENT
END:VCALENDAR