BEGIN:VCALENDAR
VERSION:2.0
PRODID:-//Atlanta&#039;s John Marshall Law School - ECPv5.0.2.1//NONSGML v1.0//EN
CALSCALE:GREGORIAN
METHOD:PUBLISH
X-WR-CALNAME:Atlanta&#039;s John Marshall Law School
X-ORIGINAL-URL:https://www.johnmarshall.edu
X-WR-CALDESC:Events for Atlanta&#039;s John Marshall Law School
BEGIN:VTIMEZONE
TZID:America/New_York
BEGIN:DAYLIGHT
TZOFFSETFROM:-0500
TZOFFSETTO:-0400
TZNAME:EDT
DTSTART:20200308T070000
END:DAYLIGHT
BEGIN:STANDARD
TZOFFSETFROM:-0400
TZOFFSETTO:-0500
TZNAME:EST
DTSTART:20201101T060000
END:STANDARD
END:VTIMEZONE
BEGIN:VEVENT
DTSTART;TZID=America/New_York:20200321T100000
DTEND;TZID=America/New_York:20200321T140000
DTSTAMP:20260426T032703
CREATED:20200210T193501Z
LAST-MODIFIED:20200311T200346Z
UID:36171-1584784800-1584799200@www.johnmarshall.edu
SUMMARY:Spring 2020 Accepted Student Day POSTPONED
DESCRIPTION:\nIn consideration of the health and safety of our community and our admitted students\, as of March 11\, 2020\, the Law School has postponed this event. Thank you for your understanding during this difficult time as we navigate COVID-19 together. \nThe Office of Admissions will host an Accepted Student Day on Saturday\, March 21\, 2020 from 10:00 a.m. to 2:00 p.m. in room 709 of the Law School. This event is a great opportunity for incoming students to learn more about their future law school home. Accepted students will have the opportunity to speak with faculty\, administration\, current students\, alumni\, and more. \nContact the Office of Admissions at admissions@johnmarshall.edu or call (678) 916-2620 for additional questions. This event will show students and families what we mean when we say our students come for law school but find a community. We look forward to seeing you soon. \nBusiness casual attire. \nTo RSVP\, please complete the form below. \nPlease note: This event is limited only to applicants that have already been accepted to Atlanta’s John Marshall Law School. Prospective students and/or applicants that have not been accepted should not RSVP. \n\n
URL:https://www.johnmarshall.edu/event/spring-2020-accepted-student-day/
ORGANIZER;CN="Office%20of%20Admissions":MAILTO:admissions@johnmarshall.edu
END:VEVENT
END:VCALENDAR