BEGIN:VCALENDAR
VERSION:2.0
PRODID:-//Atlanta&#039;s John Marshall Law School - ECPv5.0.2.1//NONSGML v1.0//EN
CALSCALE:GREGORIAN
METHOD:PUBLISH
X-WR-CALNAME:Atlanta&#039;s John Marshall Law School
X-ORIGINAL-URL:https://www.johnmarshall.edu
X-WR-CALDESC:Events for Atlanta&#039;s John Marshall Law School
BEGIN:VTIMEZONE
TZID:America/New_York
BEGIN:DAYLIGHT
TZOFFSETFROM:-0500
TZOFFSETTO:-0400
TZNAME:EDT
DTSTART:20190310T070000
END:DAYLIGHT
BEGIN:STANDARD
TZOFFSETFROM:-0400
TZOFFSETTO:-0500
TZNAME:EST
DTSTART:20191103T060000
END:STANDARD
END:VTIMEZONE
BEGIN:VEVENT
DTSTART;TZID=America/New_York:20190827T170000
DTEND;TZID=America/New_York:20190827T180000
DTSTAMP:20260421T155959
CREATED:20190823T193121Z
LAST-MODIFIED:20190823T193140Z
UID:35600-1566925200-1566928800@www.johnmarshall.edu
SUMMARY:Securing an Internship
DESCRIPTION:Blackburn Conference Center at 5:00 p.m. This program is mandatory for 2L full-time and part-time day students. The attire is business casual. \n
URL:https://www.johnmarshall.edu/event/securing-an-internship/
END:VEVENT
END:VCALENDAR