BEGIN:VCALENDAR
VERSION:2.0
PRODID:-//Atlanta&#039;s John Marshall Law School - ECPv5.0.2.1//NONSGML v1.0//EN
CALSCALE:GREGORIAN
METHOD:PUBLISH
X-WR-CALNAME:Atlanta&#039;s John Marshall Law School
X-ORIGINAL-URL:https://www.johnmarshall.edu
X-WR-CALDESC:Events for Atlanta&#039;s John Marshall Law School
BEGIN:VTIMEZONE
TZID:America/New_York
BEGIN:DAYLIGHT
TZOFFSETFROM:-0500
TZOFFSETTO:-0400
TZNAME:EDT
DTSTART:20190310T070000
END:DAYLIGHT
BEGIN:STANDARD
TZOFFSETFROM:-0400
TZOFFSETTO:-0500
TZNAME:EST
DTSTART:20191103T060000
END:STANDARD
END:VTIMEZONE
BEGIN:VEVENT
DTSTART;VALUE=DATE:20191109
DTEND;VALUE=DATE:20191110
DTSTAMP:20260426T000112
CREATED:20181109T154154Z
LAST-MODIFIED:20181109T154154Z
UID:34456-1573257600-1573343999@www.johnmarshall.edu
SUMMARY:Multistate Professional Responsibility Examination (MPRE)
DESCRIPTION:\n\n\n2019 Test Date\nRegular Registration Deadline\nFee: $125\nLate Registration Deadline\nFee: $220\n\n\n\n\nSat.\, March 23\, 2019\nJanuary 24\, 2019\nJanuary 31\, 2019\n\n\nSat.\, August 10\, 2019\nJune 13\, 2019\nJune 20\, 2019\n\n\nSat.\, November 9\, 2019\nSeptember 19\, 2019\nSeptember 26\, 2019\n\n\n\nhttp://www.ncbex.org/exams/mpre/registration/ \n
URL:https://www.johnmarshall.edu/event/multistate-professional-responsibility-examination-mpre-3/
END:VEVENT
END:VCALENDAR