BEGIN:VCALENDAR
VERSION:2.0
PRODID:-//Atlanta&#039;s John Marshall Law School - ECPv5.0.2.1//NONSGML v1.0//EN
CALSCALE:GREGORIAN
METHOD:PUBLISH
X-WR-CALNAME:Atlanta&#039;s John Marshall Law School
X-ORIGINAL-URL:https://www.johnmarshall.edu
X-WR-CALDESC:Events for Atlanta&#039;s John Marshall Law School
BEGIN:VTIMEZONE
TZID:America/New_York
BEGIN:DAYLIGHT
TZOFFSETFROM:-0500
TZOFFSETTO:-0400
TZNAME:EDT
DTSTART:20190310T070000
END:DAYLIGHT
BEGIN:STANDARD
TZOFFSETFROM:-0400
TZOFFSETTO:-0500
TZNAME:EST
DTSTART:20191103T060000
END:STANDARD
END:VTIMEZONE
BEGIN:VEVENT
DTSTART;TZID=America/New_York:20191010T160000
DTEND;TZID=America/New_York:20191010T170000
DTSTAMP:20260424T192646
CREATED:20191004T185304Z
LAST-MODIFIED:20191004T185304Z
UID:35737-1570723200-1570726800@www.johnmarshall.edu
SUMMARY:GAWL/Outlaws and Allies Speaker Event
DESCRIPTION:Room 301 at 4:00 p.m. \n
URL:https://www.johnmarshall.edu/event/gawloutlaws-and-allies-speaker-event/
END:VEVENT
END:VCALENDAR