BEGIN:VCALENDAR
VERSION:2.0
PRODID:-//Atlanta&#039;s John Marshall Law School - ECPv5.0.2.1//NONSGML v1.0//EN
CALSCALE:GREGORIAN
METHOD:PUBLISH
X-WR-CALNAME:Atlanta&#039;s John Marshall Law School
X-ORIGINAL-URL:https://www.johnmarshall.edu
X-WR-CALDESC:Events for Atlanta&#039;s John Marshall Law School
BEGIN:VTIMEZONE
TZID:America/New_York
BEGIN:DAYLIGHT
TZOFFSETFROM:-0500
TZOFFSETTO:-0400
TZNAME:EDT
DTSTART:20240310T070000
END:DAYLIGHT
BEGIN:STANDARD
TZOFFSETFROM:-0400
TZOFFSETTO:-0500
TZNAME:EST
DTSTART:20241103T060000
END:STANDARD
END:VTIMEZONE
BEGIN:VEVENT
DTSTART;VALUE=DATE:20240321
DTEND;VALUE=DATE:20240322
DTSTAMP:20260422T222214
CREATED:20240219T210802Z
LAST-MODIFIED:20240321T031527Z
UID:43180-1710979200-1711065599@www.johnmarshall.edu
SUMMARY:Department of Justice's Access to Justice: National Law School Tour
DESCRIPTION:Thursday\, March 21\, 2024 \nCLICK HERE TO VIEW THE LIVE STREAM\nPlease click here to access the event page.\n
URL:https://www.johnmarshall.edu/event/department-of-justices-access-to-justice-national-law-school-tour/
LOCATION:Atlanta’s John Marshall Law School\, 245 Peachtree Center Ave. NE Suites 1800-2000\, Atlanta\, GA\, 30303\, United States
ATTACH;FMTTYPE=image/jpeg:https://www.johnmarshall.edu/wp-content/uploads/MLM-Lecture-Hall.jpg
END:VEVENT
END:VCALENDAR