BEGIN:VCALENDAR
VERSION:2.0
PRODID:-//Atlanta&#039;s John Marshall Law School - ECPv5.0.2.1//NONSGML v1.0//EN
CALSCALE:GREGORIAN
METHOD:PUBLISH
X-WR-CALNAME:Atlanta&#039;s John Marshall Law School
X-ORIGINAL-URL:https://www.johnmarshall.edu
X-WR-CALDESC:Events for Atlanta&#039;s John Marshall Law School
BEGIN:VTIMEZONE
TZID:America/New_York
BEGIN:DAYLIGHT
TZOFFSETFROM:-0500
TZOFFSETTO:-0400
TZNAME:EDT
DTSTART:20190310T070000
END:DAYLIGHT
BEGIN:STANDARD
TZOFFSETFROM:-0400
TZOFFSETTO:-0500
TZNAME:EST
DTSTART:20191103T060000
END:STANDARD
END:VTIMEZONE
BEGIN:VEVENT
DTSTART;TZID=America/New_York:20190826T120000
DTEND;TZID=America/New_York:20190826T183000
DTSTAMP:20260421T124626
CREATED:20190823T192955Z
LAST-MODIFIED:20190823T192955Z
UID:35598-1566820800-1566844200@www.johnmarshall.edu
SUMMARY:BLSA Meetings
DESCRIPTION:12:00 p.m. in room 201 AND 5:30 p.m. in room 709 \n
URL:https://www.johnmarshall.edu/event/blsa-meetings/
END:VEVENT
END:VCALENDAR