BEGIN:VCALENDAR
VERSION:2.0
PRODID:-//Atlanta&#039;s John Marshall Law School - ECPv5.0.2.1//NONSGML v1.0//EN
CALSCALE:GREGORIAN
METHOD:PUBLISH
X-WR-CALNAME:Atlanta&#039;s John Marshall Law School
X-ORIGINAL-URL:https://www.johnmarshall.edu
X-WR-CALDESC:Events for Atlanta&#039;s John Marshall Law School
BEGIN:VTIMEZONE
TZID:America/New_York
BEGIN:DAYLIGHT
TZOFFSETFROM:-0500
TZOFFSETTO:-0400
TZNAME:EDT
DTSTART:20190310T070000
END:DAYLIGHT
BEGIN:STANDARD
TZOFFSETFROM:-0400
TZOFFSETTO:-0500
TZNAME:EST
DTSTART:20191103T060000
END:STANDARD
END:VTIMEZONE
BEGIN:VEVENT
DTSTART;TZID=America/New_York:20191107T181500
DTEND;TZID=America/New_York:20191107T191500
DTSTAMP:20260425T204421
CREATED:20191031T155536Z
LAST-MODIFIED:20191031T155536Z
UID:35860-1573150500-1573154100@www.johnmarshall.edu
SUMMARY:Bar Talk
DESCRIPTION:Please join us for our Bar Talk on Thursday\, November 7th in the Blackburn Conference Center at 6:15 p.m. Faculty and Administration will all be present to discuss the recent bar results\, as well as initiatives that the OAA\, Faculty\, and Administration has implemented to continue to support our students as they prepare for this exam. \nWe will also have recent bar takers discuss their experiences and journey in studying and taking the bar exam. \n\n\n\n\n	TeamTitleEmailPhone\n\n\n\n\n	Scot GoinsAssociate Dean of Academic Achievement\, Bar Success\, and Data Analytics\nAssociate Professor of Legal Practicesgoins@johnmarshall.edu(678) 916-2652\n\n\n	Jeanette HolmesAssociate Professor of Legal Practicejholmes@johnmarshall.edu\n\n\n	Sharon Phillips-BiondiniAssistant Professor of Legal Practicesphillips@johnmarshall.edu(678) 916-2648\n\n\n	Nicholas SmithAssistant Professor of Legal Practice and Assistant Director of Academic Achievement and Bar Successnsmith@johnmarshall.edu(678) 916-2635\n\n\n\n\n
URL:https://www.johnmarshall.edu/event/bar-talk-2/
END:VEVENT
END:VCALENDAR