BEGIN:VCALENDAR
VERSION:2.0
PRODID:-//Atlanta&#039;s John Marshall Law School - ECPv5.0.2.1//NONSGML v1.0//EN
CALSCALE:GREGORIAN
METHOD:PUBLISH
X-WR-CALNAME:Atlanta&#039;s John Marshall Law School
X-ORIGINAL-URL:https://www.johnmarshall.edu
X-WR-CALDESC:Events for Atlanta&#039;s John Marshall Law School
BEGIN:VTIMEZONE
TZID:America/New_York
BEGIN:DAYLIGHT
TZOFFSETFROM:-0500
TZOFFSETTO:-0400
TZNAME:EDT
DTSTART:20230312T070000
END:DAYLIGHT
BEGIN:STANDARD
TZOFFSETFROM:-0400
TZOFFSETTO:-0500
TZNAME:EST
DTSTART:20231105T060000
END:STANDARD
END:VTIMEZONE
BEGIN:VEVENT
DTSTART;TZID=America/New_York:20231020T090000
DTEND;TZID=America/New_York:20231020T110000
DTSTAMP:20260422T221107
CREATED:20230707T152611Z
LAST-MODIFIED:20231018T161912Z
UID:42442-1697792400-1697799600@www.johnmarshall.edu
SUMMARY:Atlanta’s John Marshall Law School’s 90th Anniversary  Celebration
DESCRIPTION:On Friday\, October 20\, 2023\, from 9:00 a.m. to 11:00 a.m. – Atlanta’s John Marshall Law School’s 90th Anniversary celebration will commemorate a rich history of legal education while looking forward to continued excellence\, innovation\, and impact in the legal field. \nRSVP is required for the seated event. If you did not receive an invitation and would like to request an invite to attend\, please reach out to waina@johnmarshall.edu to inquire if the event is full. Walk-in registrants will not be accommodated as this is a seated event. \n
URL:https://www.johnmarshall.edu/event/atlantas-john-marshall-law-schools-90th-anniversary-celebration/
LOCATION:The Commerce Club\, 191 Peachtree Street NE\, 49th Floor\, Atlanta\, GA\, 30303\, United States
ATTACH;FMTTYPE=image/jpeg:https://www.johnmarshall.edu/wp-content/uploads/2023-AJMLS-90th-Anniversary-jmtv.jpg
END:VEVENT
END:VCALENDAR