BEGIN:VCALENDAR
VERSION:2.0
PRODID:-//Atlanta&#039;s John Marshall Law School - ECPv5.0.2.1//NONSGML v1.0//EN
CALSCALE:GREGORIAN
METHOD:PUBLISH
X-WR-CALNAME:Atlanta&#039;s John Marshall Law School
X-ORIGINAL-URL:https://www.johnmarshall.edu
X-WR-CALDESC:Events for Atlanta&#039;s John Marshall Law School
BEGIN:VTIMEZONE
TZID:America/New_York
BEGIN:DAYLIGHT
TZOFFSETFROM:-0500
TZOFFSETTO:-0400
TZNAME:EDT
DTSTART:20210314T070000
END:DAYLIGHT
BEGIN:STANDARD
TZOFFSETFROM:-0400
TZOFFSETTO:-0500
TZNAME:EST
DTSTART:20211107T060000
END:STANDARD
END:VTIMEZONE
BEGIN:VEVENT
DTSTART;VALUE=DATE:20210305
DTEND;VALUE=DATE:20210306
DTSTAMP:20260425T111846
CREATED:20210114T210012Z
LAST-MODIFIED:20210120T014913Z
UID:37811-1614902400-1614988799@www.johnmarshall.edu
SUMMARY:2021 Public Sector Career Fair (PSCF)
DESCRIPTION:2021 Public Sector Career Fair (PSCF) – March 5\, 2021\nEligible Classes: 1L/2L/3L/4L and Recent Graduates (December 2019 – July\n2020) \nDATES & DESCRIPTION \n01/10/2021 Employer registration starts (12:01 a.m.) \n01/14/2021 Employer registration deadline (5:00 p.m.) \n01/19/2021 Student bidding/applications start (12:01 a.m.) \n02/08/2021 Student bidding/applications deadline (5:00 p.m.) \n02/09/2021 Employers download/view application materials (12:01 a.m.) \n02/15/2021 Employer deadline to select students (5:00 p.m.) \n02/18/2021 Students invitations viewable and accept/declines start (12:01 a.m.) \n02/22/2021 Student accept/decline deadline (5:00 p.m.) \n02/26/2021 Students and employers schedules viewable on Symplicity (12:01 a.m.) \n03/02/2021 Video conference schedule links e-mailed to students and employers from FloRecruit \n03/05/2021 Public Sector Career Fair – Interviews *location TBD* (9:00 a.m. – 5:00 p.m.) \nView more job fairs here\nQuestions?\n\n\n\n\n	TeamTitleEmailPhone\n\n\n\n\n	J.L. Wyatt-Keyton\, Ph.D.Executive Director of Career Services and Professional Developmentjwyatt@johnmarshall.edu(678) 916-2612\n\n\n	Angela SumpterCareer Services and Professional \nDevelopment Coordinatorasumpter@johnmarshall.edu(678) 916-2677\n\n\n\n\n
URL:https://www.johnmarshall.edu/event/2021-public-sector-career-fair-pscf/
END:VEVENT
END:VCALENDAR