BEGIN:VCALENDAR
VERSION:2.0
PRODID:-//Atlanta&#039;s John Marshall Law School - ECPv5.0.2.1//NONSGML v1.0//EN
CALSCALE:GREGORIAN
METHOD:PUBLISH
X-WR-CALNAME:Atlanta&#039;s John Marshall Law School
X-ORIGINAL-URL:https://www.johnmarshall.edu
X-WR-CALDESC:Events for Atlanta&#039;s John Marshall Law School
BEGIN:VTIMEZONE
TZID:America/New_York
BEGIN:DAYLIGHT
TZOFFSETFROM:-0500
TZOFFSETTO:-0400
TZNAME:EDT
DTSTART:20180311T070000
END:DAYLIGHT
BEGIN:STANDARD
TZOFFSETFROM:-0400
TZOFFSETTO:-0500
TZNAME:EST
DTSTART:20181104T060000
END:STANDARD
END:VTIMEZONE
BEGIN:VEVENT
DTSTART;TZID=America/New_York:20180412T120000
DTEND;TZID=America/New_York:20180412T150000
DTSTAMP:20260422T175521
CREATED:20180312T160017Z
LAST-MODIFIED:20180312T165258Z
UID:32806-1523534400-1523545200@www.johnmarshall.edu
SUMMARY:Glimpse Prospective Student Open House
DESCRIPTION:April 12\, 2018 – Please join the Atlanta’s John Marshall Law School Office of Admissions on April 12th from 12:00 until 3:00 p.m. to obtain a glimpse of life as a student at Atlanta’s John Marshall. \nAt this event you will learn more about the Law School by having lunch with faculty and students\, engaging with the Offices of Admission\, and shadowing ambassadors to class. \nThe Office of Admissions looks forward to meeting you as we share all that Atlanta’s John Marshall has to offer! \n\n\nTo RSVP for the upcoming Open House event\, please complete the form below. An Admissions representative will follow up with you shortly after your submission.\n\n\n\n                \n                        Name*\n                            \n                            \n                                                    \n                                                    First\n                                                \n                            \n                            \n                                                    \n                                                    Last\n                                                \n                            \n                        LSAC Number Email*\n                            \n                        Phone*Date of Virtual Open House*Tuesday\, May 12th at noonWednesday\, June 3rd at 6:00 p.m.Monday\, June 22nd at noonThursday\, July 16th at 6:00 p.m.All programs will be discussed unless noted that it is specifically for the Criminal Justice Certificate Program.Expected Entry Year*Fall 2026Fall 2027Fall 2028Fall 2029UndecidedHiddenHow many guests do you plan to bring with you to the Open House?NoneOne guestTwo guestMore than two guestsUndergraduate Institution May we send you a text message reminder prior to the event?*\n			\n				\n				Yes\n			\n			\n				\n				No\n			Number to text*How did you hear about this event?*WebsiteEmailMailSocial MediaRecruiting EventPhoneRadioNewspaperWord of MouthCAPTCHA\n          \n            \n            \n            \n            \n            \n            \n            \n            \n            \n        \n                        \n                        \n
URL:https://www.johnmarshall.edu/event/04122018/
END:VEVENT
END:VCALENDAR